BEGIN:VCALENDAR
VERSION:2.0
PRODID:-//project/author//NONSGML v1.0//EN
CALSCALE:GREGORIAN
BEGIN:VEVENT
DTSTART:20240911T120000
LOCATION:Graf-Zeppelin-Haus, Olgastraße 20, 88045 Friedrichshafen, Deutschland
DTEND:20240913T150000
DTSTAMP:20260421T123646
UID:1874
SUMMARY:DECHEMA FORUM
URL;VALUE=URI:
END:VEVENT
END:VCALENDAR