BEGIN:VCALENDAR
VERSION:2.0
PRODID:-//project/author//NONSGML v1.0//EN
CALSCALE:GREGORIAN
BEGIN:VEVENT
DTSTART:20240607T090000
LOCATION:Online, Online
DTEND:20240607T160000
DTSTAMP:20260420T215134
UID:1864
SUMMARY:Klinische Studien mit Medizinprodukten
URL;VALUE=URI:
END:VEVENT
END:VCALENDAR