BEGIN:VCALENDAR
VERSION:2.0
PRODID:-//project/author//NONSGML v1.0//EN
CALSCALE:GREGORIAN
BEGIN:VEVENT
DTSTART:20241105T090000
LOCATION:Online, Online
DTEND:20241105T160000
DTSTAMP:20260420T201313
UID:1862
SUMMARY:Klinische Bewertung - Basiskurs
URL;VALUE=URI:
END:VEVENT
END:VCALENDAR