BEGIN:VCALENDAR
VERSION:2.0
PRODID:-//project/author//NONSGML v1.0//EN
CALSCALE:GREGORIAN
BEGIN:VEVENT
DTSTART:20240416T000000
LOCATION:bcc Berlin Congress Center GmbH, Alexanderstraße 11, 10178 Berlin, Deutschland
DTEND:20240417T000000
DTSTAMP:20260423T104116
UID:1845
SUMMARY:Deutsche Biotechnologietage 2024
URL;VALUE=URI:
END:VEVENT
END:VCALENDAR