BEGIN:VCALENDAR
VERSION:2.0
PRODID:-//project/author//NONSGML v1.0//EN
CALSCALE:GREGORIAN
BEGIN:VEVENT
DTSTART:20231108T100000
LOCATION:Fraunhofer Institute for Cell Therapy and Immunology, Perlickstraße 1, 04103 Leipzig, Germany
DTEND:20231109T143000
DTSTAMP:20260419T172126
UID:1840
SUMMARY:Leipzig Immune ONcology (LION) Conference
URL;VALUE=URI:
END:VEVENT
END:VCALENDAR