BEGIN:VCALENDAR
VERSION:2.0
PRODID:-//project/author//NONSGML v1.0//EN
CALSCALE:GREGORIAN
BEGIN:VEVENT
DTSTART:20231017T100000
LOCATION:Bodenseeforum Konstanz, Reichenaustraße 21, 78467 Konstanz, Germany
DTEND:20231018T160000
DTSTAMP:20260422T120318
UID:1831
SUMMARY:Diagnostics for Future Conference 
URL;VALUE=URI:
END:VEVENT
END:VCALENDAR