BEGIN:VCALENDAR
VERSION:2.0
PRODID:-//project/author//NONSGML v1.0//EN
CALSCALE:GREGORIAN
BEGIN:VEVENT
DTSTART:20231015T110000
LOCATION:JW Marriott Hotel Berlin, Stauffenbergstraße 26, 10785 Berlin & Online, Deutschland
DTEND:20231017T173000
DTSTAMP:20260422T103639
UID:1830
SUMMARY:World Health Summit
URL;VALUE=URI:
END:VEVENT
END:VCALENDAR