BEGIN:VCALENDAR
VERSION:2.0
PRODID:-//project/author//NONSGML v1.0//EN
CALSCALE:GREGORIAN
BEGIN:VEVENT
DTSTART:20240123T084500
LOCATION:VDE Verband der Elektrotechnik Elektronik Informationstechnik e.V., Merianstr. 28, 63069 Offenbach am Main, Deutschland
DTEND:20240123T160000
DTSTAMP:20260422T102924
UID:1827
SUMMARY:Technische Dokumentation bei Medizinprodukten
URL;VALUE=URI:
END:VEVENT
END:VCALENDAR