BEGIN:VCALENDAR
VERSION:2.0
PRODID:-//project/author//NONSGML v1.0//EN
CALSCALE:GREGORIAN
BEGIN:VEVENT
DTSTART:20240110T084500
LOCATION:VDE FNN, Bismarckstraße 33, 10625 Berlin, Deutschland
DTEND:20240110T160000
DTSTAMP:20260420T180553
UID:1826
SUMMARY:Hands-on Training Künstliche Intelligenz (KI) in Medizinprodukten
URL;VALUE=URI:
END:VEVENT
END:VCALENDAR