BEGIN:VCALENDAR
VERSION:2.0
PRODID:-//project/author//NONSGML v1.0//EN
CALSCALE:GREGORIAN
BEGIN:VEVENT
DTSTART:20231128T090000
LOCATION:Best Western Hotel Kaiserslautern, St.-Quentin-Ring 1, Kaiserslautern, Deutschland
DTEND:20231129T150000
DTSTAMP:20260422T115555
UID:1805
SUMMARY:Workshop „Innovationstreiber Oberflächentechnologie – Von der Simulation zur Beschichtung“
URL;VALUE=URI:
END:VEVENT
END:VCALENDAR