BEGIN:VCALENDAR
VERSION:2.0
PRODID:-//project/author//NONSGML v1.0//EN
CALSCALE:GREGORIAN
BEGIN:VEVENT
DTSTART:20231018T120000
LOCATION:online, Deutschland
DTEND:20231018T180000
DTSTAMP:20260422T131206
UID:1796
SUMMARY:Workshop on clinical trials for Medical Devices/ IVDRs
URL;VALUE=URI:
END:VEVENT
END:VCALENDAR