BEGIN:VCALENDAR
VERSION:2.0
PRODID:-//project/author//NONSGML v1.0//EN
CALSCALE:GREGORIAN
BEGIN:VEVENT
DTSTART:20230822T130000
LOCATION:online, Deutschland
DTEND:20230822T143000
DTSTAMP:20260422T103633
UID:1795
SUMMARY:R&D Grants „Overview of funding opportunities for medical devices“
URL;VALUE=URI:
END:VEVENT
END:VCALENDAR