BEGIN:VCALENDAR
VERSION:2.0
PRODID:-//project/author//NONSGML v1.0//EN
CALSCALE:GREGORIAN
BEGIN:VEVENT
DTSTART:20230821T130000
LOCATION:online, Deutschland
DTEND:20230821T170000
DTSTAMP:20260420T184444
UID:1794
SUMMARY:Sales and Marketing Medical Devices
URL;VALUE=URI:
END:VEVENT
END:VCALENDAR