BEGIN:VCALENDAR
VERSION:2.0
PRODID:-//project/author//NONSGML v1.0//EN
CALSCALE:GREGORIAN
BEGIN:VEVENT
DTSTART:20230907T100000
LOCATION:MS Teams, Offenbach am Main, Deutschland
DTEND:20230907T110000
DTSTAMP:20260419T185331
UID:1792
SUMMARY:KI basierte medizinische Software im europäischen Markt
URL;VALUE=URI:
END:VEVENT
END:VCALENDAR