BEGIN:VCALENDAR
VERSION:2.0
PRODID:-//project/author//NONSGML v1.0//EN
CALSCALE:GREGORIAN
BEGIN:VEVENT
DTSTART:20231018T090000
LOCATION:Fraunhofer IIS/EAS, 01187 Dresden Dresden, Germany
DTEND:20231019T163000
DTSTAMP:20260420T185248
UID:1790
SUMMARY: Schulung Predictive Maintenance
URL;VALUE=URI:
END:VEVENT
END:VCALENDAR