BEGIN:VCALENDAR
VERSION:2.0
PRODID:-//project/author//NONSGML v1.0//EN
CALSCALE:GREGORIAN
BEGIN:VEVENT
DTSTART:20230706T110000
LOCATION:Online
DTEND:20230706T120000
DTSTAMP:20260419T184616
UID:1780
SUMMARY:Fit für die CSRD
URL;VALUE=URI:
END:VEVENT
END:VCALENDAR