BEGIN:VCALENDAR
VERSION:2.0
PRODID:-//project/author//NONSGML v1.0//EN
CALSCALE:GREGORIAN
BEGIN:VEVENT
DTSTART:20230628T083000
LOCATION:Online
DTEND:20230628T170000
DTSTAMP:20260422T120026
UID:1765
SUMMARY:Lean Management im Labor
URL;VALUE=URI:
END:VEVENT
END:VCALENDAR