BEGIN:VCALENDAR
VERSION:2.0
PRODID:-//project/author//NONSGML v1.0//EN
CALSCALE:GREGORIAN
BEGIN:VEVENT
DTSTART:20231019T084500
LOCATION:VDE Verband der Elektrotechnik Elektronik Informationstechnik e.V., Merianstr. 28, 63069 Offenbach am Main, Deutschland
DTEND:20231019T160000
DTSTAMP:20260420T184347
UID:1763
SUMMARY:Klinische Prüfungen von Medizinprodukten
URL;VALUE=URI:
END:VEVENT
END:VCALENDAR