BEGIN:VCALENDAR
VERSION:2.0
PRODID:-//project/author//NONSGML v1.0//EN
CALSCALE:GREGORIAN
BEGIN:VEVENT
DTSTART:20230911T090000
LOCATION:Online
DTEND:20230914T123000
DTSTAMP:20260420T162521
UID:1762
SUMMARY:Datenbasierte Entscheidungsfindung: Grundlagen Explorativer Datenanalyse
URL;VALUE=URI:
END:VEVENT
END:VCALENDAR