BEGIN:VCALENDAR
VERSION:2.0
PRODID:-//project/author//NONSGML v1.0//EN
CALSCALE:GREGORIAN
BEGIN:VEVENT
DTSTART:20230622T100000
LOCATION:Online, Postdam, Germany
DTEND:20230622T110000
DTSTAMP:20260419T202813
UID:1757
SUMMARY:Potsdam Science Park Academy: Enabling Effective Data Management for Companies
URL;VALUE=URI:
END:VEVENT
END:VCALENDAR