BEGIN:VCALENDAR
VERSION:2.0
PRODID:-//project/author//NONSGML v1.0//EN
CALSCALE:GREGORIAN
BEGIN:VEVENT
DTSTART:20230627T100000
LOCATION:Online
DTEND:20230627T120000
DTSTAMP:20260421T125201
UID:1756
SUMMARY:Horizont Europa Cluster 6 – Ihr Einstieg in die Fördermöglichkeiten im Bereich Bioökonomie und Umwelt
URL;VALUE=URI:
END:VEVENT
END:VCALENDAR