BEGIN:VCALENDAR
VERSION:2.0
PRODID:-//project/author//NONSGML v1.0//EN
CALSCALE:GREGORIAN
BEGIN:VEVENT
DTSTART:20230615T130000
LOCATION:Berlin, Deutschland
DTEND:20230616T140000
DTSTAMP:20260422T120224
UID:1755
SUMMARY:VUP-Jahrestagung der Laborbranche
URL;VALUE=URI:
END:VEVENT
END:VCALENDAR