BEGIN:VCALENDAR
VERSION:2.0
PRODID:-//project/author//NONSGML v1.0//EN
CALSCALE:GREGORIAN
BEGIN:VEVENT
DTSTART:20230614T090000
LOCATION:HTWK Leipzig - Fakultät Ingenieurwissenschaften Nieperbau, Karl-Liebknecht-Straße 134, 04277 Leipzig
DTEND:20230614T140000
DTSTAMP:20260420T174714
UID:1749
SUMMARY:10. Mitteldeutsches Forum || 3D-Druck in der Anwendung
URL;VALUE=URI:
END:VEVENT
END:VCALENDAR