BEGIN:VCALENDAR
VERSION:2.0
PRODID:-//project/author//NONSGML v1.0//EN
CALSCALE:GREGORIAN
BEGIN:VEVENT
DTSTART:20230705T000000
LOCATION:Meliá Hotel, Friedrichstraße 103, 10117 Berlin
DTEND:20230705T000000
DTSTAMP:20260422T103537
UID:1748
SUMMARY:Zukunft mit Biotechnologie Unternehmer:innentag 2023
URL;VALUE=URI:
END:VEVENT
END:VCALENDAR