BEGIN:VCALENDAR
VERSION:2.0
PRODID:-//project/author//NONSGML v1.0//EN
CALSCALE:GREGORIAN
BEGIN:VEVENT
DTSTART:20231113T080000
LOCATION:FH Oberösterreich | Campus Wels | Fakultät für Technik und Angewandte Naturwissenschaften, Stelzhamerstraße 23, 4600 Wels, Österreich
DTEND:20231114T170000
DTSTAMP:20260419T161501
UID:1746
SUMMARY:PSE Partner Country Workshop | Austria Energiewende – Wenn die Antwort in der Schicht steckt
URL;VALUE=URI:
END:VEVENT
END:VCALENDAR