BEGIN:VCALENDAR
VERSION:2.0
PRODID:-//project/author//NONSGML v1.0//EN
CALSCALE:GREGORIAN
BEGIN:VEVENT
DTSTART:20230524T170000
LOCATION:BIO CITY LEIPZIG, Deutscher Platz 5, 04103 Leipzig
DTEND:20230524T200000
DTSTAMP:20260421T125345
UID:1743
SUMMARY:AfterWork-Netzwerk-Event in der BIO CITY LEIPZIG
URL;VALUE=URI:
END:VEVENT
END:VCALENDAR