BEGIN:VCALENDAR
VERSION:2.0
PRODID:-//project/author//NONSGML v1.0//EN
CALSCALE:GREGORIAN
BEGIN:VEVENT
DTSTART:20231106T000000
LOCATION:Trade Fair Messe München, Am Messesee 2, 81829 München, Germany
DTEND:20231108T000000
DTSTAMP:20260421T113224
UID:1741
SUMMARY:BIO-Europe 2023 in München
URL;VALUE=URI:
END:VEVENT
END:VCALENDAR