BEGIN:VCALENDAR
VERSION:2.0
PRODID:-//project/author//NONSGML v1.0//EN
CALSCALE:GREGORIAN
BEGIN:VEVENT
DTSTART:20231120T093000
LOCATION:DECHEMA Haus, Theodor-Heuss-Allee 25, 60486 Frankfurt am Main, Deutschland
DTEND:20231121T140000
DTSTAMP:20260420T174746
UID:1740
SUMMARY:Jahrestreffen "Prozess-, Apparate- und Anlagentechnik“
URL;VALUE=URI:
END:VEVENT
END:VCALENDAR