BEGIN:VCALENDAR
VERSION:2.0
PRODID:-//project/author//NONSGML v1.0//EN
CALSCALE:GREGORIAN
BEGIN:VEVENT
DTSTART:20230516T120000
LOCATION:International Congress Center, Ostra-Ufer 2, 01067 Dresden, Germany
DTEND:20230517T140000
DTSTAMP:20260420T185317
UID:1739
SUMMARY:Building Bridges for the Next Generations
URL;VALUE=URI:
END:VEVENT
END:VCALENDAR