BEGIN:VCALENDAR
VERSION:2.0
PRODID:-//project/author//NONSGML v1.0//EN
CALSCALE:GREGORIAN
BEGIN:VEVENT
DTSTART:20230523T100000
LOCATION:BIO CITY Leipzig, BIO CITY Atrium (ground floor), Conference room 2, Deutscher Platz 5, 04103 Leipzig, Germany
DTEND:20230523T120000
DTSTAMP:20260420T134933
UID:1738
SUMMARY:Seminar: Bioluminescent Technologies for studying Protein Biology and Cellular Responses 
URL;VALUE=URI:
END:VEVENT
END:VCALENDAR