BEGIN:VCALENDAR
VERSION:2.0
PRODID:-//project/author//NONSGML v1.0//EN
CALSCALE:GREGORIAN
BEGIN:VEVENT
DTSTART:20230427T090000
LOCATION:Mercedes Benz Arena Stuttgart, Mercedesstraße 87, 70372 Stuttgart, Deutschland
DTEND:20230427T160000
DTSTAMP:20260419T185211
UID:1729
SUMMARY:Medizintechnik-Fachtag in Stuttgart
URL;VALUE=URI:
END:VEVENT
END:VCALENDAR