BEGIN:VCALENDAR
VERSION:2.0
PRODID:-//project/author//NONSGML v1.0//EN
CALSCALE:GREGORIAN
BEGIN:VEVENT
DTSTART:20230420T090000
LOCATION:medways e.V. Geschäftsstelle, Keßlerstraße 21b, 07745 Jena, Deutschland
DTEND:20230420T130000
DTSTAMP:20260420T173427
UID:1728
SUMMARY:Medizintechnik-Fachtag in Jena
URL;VALUE=URI:
END:VEVENT
END:VCALENDAR