BEGIN:VCALENDAR
VERSION:2.0
PRODID:-//project/author//NONSGML v1.0//EN
CALSCALE:GREGORIAN
BEGIN:VEVENT
DTSTART:20230503T093000
LOCATION:Salles de Pologne Events & Konferenzen | Konferenzetage, Hainstraße 16, 04109 Leipzig, Deutschland
DTEND:20230503T163000
DTSTAMP:20260421T000921
UID:1725
SUMMARY:Fachsymposium "Nachhaltigkeit in der Gesundheitswirtschaft“
URL;VALUE=URI:
END:VEVENT
END:VCALENDAR