BEGIN:VCALENDAR
VERSION:2.0
PRODID:-//project/author//NONSGML v1.0//EN
CALSCALE:GREGORIAN
BEGIN:VEVENT
DTSTART:20230330T084500
LOCATION:VDE e.V., Merianstraße 28, 63069 Offenbach am Main, Deutschland
DTEND:20230330T160000
DTSTAMP:20260419T190413
UID:1719
SUMMARY:Hands-on-Training Künstliche Intelligenz (KI) bei Medizinprodukten
URL;VALUE=URI:
END:VEVENT
END:VCALENDAR