BEGIN:VCALENDAR
VERSION:2.0
PRODID:-//project/author//NONSGML v1.0//EN
CALSCALE:GREGORIAN
BEGIN:VEVENT
DTSTART:20230329T090000
LOCATION:VDE e.V., Merianstraße 28, 63069 Offenbach am Main, Deutschland
DTEND:20230329T164500
DTSTAMP:20260420T134903
UID:1718
SUMMARY:Hands-on-Training Risikomanagement bei Medizinprodukten
URL;VALUE=URI:
END:VEVENT
END:VCALENDAR