BEGIN:VCALENDAR
VERSION:2.0
PRODID:-//project/author//NONSGML v1.0//EN
CALSCALE:GREGORIAN
BEGIN:VEVENT
DTSTART:20230418T100000
LOCATION:Haus am Dom, Domplatz 3, 60311 Frankfurt (Main), Hessen
DTEND:20230418T164500
DTSTAMP:20260422T104557
UID:1707
SUMMARY:Symposium "Cybersecurity bei Medizinprodukten"
URL;VALUE=URI:
END:VEVENT
END:VCALENDAR