BEGIN:VCALENDAR
VERSION:2.0
PRODID:-//project/author//NONSGML v1.0//EN
CALSCALE:GREGORIAN
BEGIN:VEVENT
DTSTART:20230628T000000
LOCATION:Institut für Klinische Anatomie und Zellanalytik in Tübingen, Elfriede-Aulhorn-Straße 8, 72076 Tübingen, Deutschland
DTEND:20230628T000000
DTSTAMP:20260420T151251
UID:1706
SUMMARY:Einschnitte – Einblicke: Digitalisierung | Fusion | KI in der Chirurgie
URL;VALUE=URI:
END:VEVENT
END:VCALENDAR