BEGIN:VCALENDAR
VERSION:2.0
PRODID:-//project/author//NONSGML v1.0//EN
CALSCALE:GREGORIAN
BEGIN:VEVENT
DTSTART:20230511T083000
LOCATION:Online
DTEND:20230511T171500
DTSTAMP:20260423T102610
UID:1703
SUMMARY:Aktualisierungskurs für Projektleiter und Beauftragte für Biologische Sicherheit
URL;VALUE=URI:
END:VEVENT
END:VCALENDAR