BEGIN:VCALENDAR
VERSION:2.0
PRODID:-//project/author//NONSGML v1.0//EN
CALSCALE:GREGORIAN
BEGIN:VEVENT
DTSTART:20230522T123000
LOCATION:Harz Hotel Seela, Nordhäuser Str. 5, 38667 Bad Harzburg, Deutschland
DTEND:20230525T130000
DTSTAMP:20260422T131025
UID:1698
SUMMARY:Partikelmesstechnik
URL;VALUE=URI:
END:VEVENT
END:VCALENDAR