BEGIN:VCALENDAR
VERSION:2.0
PRODID:-//project/author//NONSGML v1.0//EN
CALSCALE:GREGORIAN
BEGIN:VEVENT
DTSTART:20230509T090000
LOCATION:Meißner Weinmanufaktur GmbH, Bennoweg 9, 01662 Meißen, Deutschland
DTEND:20230509T160000
DTSTAMP:20260420T215225
UID:1693
SUMMARY:Personaler-Workshop im Landkreis Meißen: "Social-Media-Recruiting"
URL;VALUE=URI:
END:VEVENT
END:VCALENDAR