BEGIN:VCALENDAR
VERSION:2.0
PRODID:-//project/author//NONSGML v1.0//EN
CALSCALE:GREGORIAN
BEGIN:VEVENT
DTSTART:20230330T140000
LOCATION:Synergy Health Radeberg GmbH a STERIS Company, Juri-Gagarin-Straße 15, 01454 Radeberg
DTEND:20230330T160000
DTSTAMP:20260420T164305
UID:1690
SUMMARY:Entwicklung von Medizinprodukten - Ist Sterilisation ein MUSS?
URL;VALUE=URI:
END:VEVENT
END:VCALENDAR