BEGIN:VCALENDAR
VERSION:2.0
PRODID:-//project/author//NONSGML v1.0//EN
CALSCALE:GREGORIAN
BEGIN:VEVENT
DTSTART:20230510T090000
LOCATION:Online
DTEND:20230510T170000
DTSTAMP:20260420T221223
UID:1686
SUMMARY:Werkstoffauswahl im chemischen Anlagen- und Apparatebau
URL;VALUE=URI:
END:VEVENT
END:VCALENDAR