BEGIN:VCALENDAR
VERSION:2.0
PRODID:-//project/author//NONSGML v1.0//EN
CALSCALE:GREGORIAN
BEGIN:VEVENT
DTSTART:20230320T130000
LOCATION:TU Darmstadt, Stadtmitte S2/08 Raum 171, Hochschulstraße 4, 64289 Darmstadt, Deutschland
DTEND:20230322T160000
DTSTAMP:20260422T103451
UID:1685
SUMMARY:International Synthetic Biology Workshop
URL;VALUE=URI:
END:VEVENT
END:VCALENDAR