BEGIN:VCALENDAR
VERSION:2.0
PRODID:-//project/author//NONSGML v1.0//EN
CALSCALE:GREGORIAN
BEGIN:VEVENT
DTSTART:20230426T100000
LOCATION:Wasserturm auf dem EUREF-Campus, Torgauerstraße 12-15, 10829 Berlin, Deutschland
DTEND:20230427T151500
DTSTAMP:20260419T173216
UID:1676
SUMMARY:1. Statuskonferenz von KlimPro-Industrie
URL;VALUE=URI:
END:VEVENT
END:VCALENDAR