BEGIN:VCALENDAR
VERSION:2.0
PRODID:-//project/author//NONSGML v1.0//EN
CALSCALE:GREGORIAN
BEGIN:VEVENT
DTSTART:20230223T150000
LOCATION:Online
DTEND:20230223T160000
DTSTAMP:20260422T115807
UID:1671
SUMMARY:Digitaler Workshop über Cybersecurity-Bedrohungen in der Biotechnologie-Branche
URL;VALUE=URI:
END:VEVENT
END:VCALENDAR