BEGIN:VCALENDAR
VERSION:2.0
PRODID:-//project/author//NONSGML v1.0//EN
CALSCALE:GREGORIAN
BEGIN:VEVENT
DTSTART:20230403T090000
LOCATION:Online
DTEND:20230404T170000
DTSTAMP:20260422T131211
UID:1660
SUMMARY:Maßstabsvergrößerung katalytischer Reaktoren
URL;VALUE=URI:
END:VEVENT
END:VCALENDAR