BEGIN:VCALENDAR
VERSION:2.0
PRODID:-//project/author//NONSGML v1.0//EN
CALSCALE:GREGORIAN
BEGIN:VEVENT
DTSTART:20230127T084500
LOCATION:Online
DTEND:20230127T123000
DTSTAMP:20260423T102630
UID:1658
SUMMARY:4. Kompetenzbörse des Managerinnen-Netzwerks
URL;VALUE=URI:
END:VEVENT
END:VCALENDAR