BEGIN:VCALENDAR
VERSION:2.0
PRODID:-//project/author//NONSGML v1.0//EN
CALSCALE:GREGORIAN
BEGIN:VEVENT
DTSTART:20230202T160000
LOCATION:Infineon Dresden - Gebäude 48 - Panorama Restaurant, Königsbrücker Str. 180, 01099 Dresden
DTEND:20230202T180000
DTSTAMP:20260422T103028
UID:1657
SUMMARY:"Digital Health – Potentiale für Sachsen erschließen“ 
URL;VALUE=URI:
END:VEVENT
END:VCALENDAR