BEGIN:VCALENDAR
VERSION:2.0
PRODID:-//project/author//NONSGML v1.0//EN
CALSCALE:GREGORIAN
BEGIN:VEVENT
DTSTART:20230510T080000
LOCATION:media city leipzig, Altenburger Str. 13, 04275 Leipzig, Deutschland
DTEND:20230511T150000
DTSTAMP:20260421T124938
UID:1656
SUMMARY:future of health xperience 2023
URL;VALUE=URI:
END:VEVENT
END:VCALENDAR