BEGIN:VCALENDAR
VERSION:2.0
PRODID:-//project/author//NONSGML v1.0//EN
CALSCALE:GREGORIAN
BEGIN:VEVENT
DTSTART:20230524T150000
LOCATION:Fraunhofer IIS/EAS, Dresden, Germany
DTEND:20230524T160000
DTSTAMP:20260420T214112
UID:1647
SUMMARY:How Design for Reliability methods support the development of long-living ICs
URL;VALUE=URI:
END:VEVENT
END:VCALENDAR